BEGIN:VCALENDAR
VERSION:2.0
PRODID:-//Apple Inc.//Mac OS X 10.8.5//EN
CALSCALE:GREGORIAN
X-MICROSOFT-CALSCALE:GREGORIAN
BEGIN:VEVENT
UID:69e7fb1e2b167
DTSTART;VALUE=DATE:20261006
SEQUENCE:0
TRANSP:OPAQUE
DTEND;VALUE=DATE:20261009
LOCATION:Messe Stuttgart
SUMMARY:VISION - Weltleitmesse für Bildverarbeitung
CLASS:PUBLIC
X-MICROSOFT-CDO-ALLDAYEVENT:TRUE
DTSTAMP:20260421T223302Z
END:VEVENT
END:VCALENDAR