BEGIN:VCALENDAR
VERSION:2.0
PRODID:-//Apple Inc.//Mac OS X 10.8.5//EN
CALSCALE:GREGORIAN
X-MICROSOFT-CALSCALE:GREGORIAN
BEGIN:VEVENT
UID:69e93da7f387a
DTSTART;VALUE=DATE:20261006
SEQUENCE:0
TRANSP:OPAQUE
DTEND;VALUE=DATE:20261009
LOCATION:Messe Stuttgart
SUMMARY:VISION - World's leading trade fair for machine vision
CLASS:PUBLIC
X-MICROSOFT-CDO-ALLDAYEVENT:TRUE
DTSTAMP:20260422T212912Z
END:VEVENT
END:VCALENDAR