BEGIN:VCALENDAR
VERSION:2.0
PRODID:-//Apple Inc.//Mac OS X 10.8.5//EN
CALSCALE:GREGORIAN
X-MICROSOFT-CALSCALE:GREGORIAN
BEGIN:VEVENT
UID:69eb8dcbf2791
DTSTART;VALUE=DATE:20261006
SEQUENCE:0
TRANSP:OPAQUE
DTEND;VALUE=DATE:20261009
LOCATION:Messe Stuttgart
SUMMARY:interbad - International Trade Fair for Swimming Pool\, Sauna and S
 pa with Congress
CLASS:PUBLIC
X-MICROSOFT-CDO-ALLDAYEVENT:TRUE
DTSTAMP:20260424T153539Z
END:VEVENT
END:VCALENDAR