BEGIN:VCALENDAR
VERSION:2.0
PRODID:-//Apple Inc.//Mac OS X 10.8.5//EN
CALSCALE:GREGORIAN
X-MICROSOFT-CALSCALE:GREGORIAN
BEGIN:VEVENT
UID:69e74da13bfd3
DTSTART;VALUE=DATE:20260409
SEQUENCE:0
TRANSP:OPAQUE
DTEND;VALUE=DATE:20260413
LOCATION:Messe Stuttgart
SUMMARY:Fair Handeln - Messe für ein faires und nachhaltiges Leben
CLASS:PUBLIC
X-MICROSOFT-CDO-ALLDAYEVENT:TRUE
DTSTAMP:20260421T101249Z
END:VEVENT
END:VCALENDAR