BEGIN:VCALENDAR
VERSION:2.0
PRODID:-//Apple Inc.//Mac OS X 10.8.5//EN
CALSCALE:GREGORIAN
X-MICROSOFT-CALSCALE:GREGORIAN
BEGIN:VEVENT
UID:69e73810a38e2
DTSTART;VALUE=DATE:20260609
SEQUENCE:0
TRANSP:OPAQUE
DTEND;VALUE=DATE:20260612
LOCATION:Messe Stuttgart
SUMMARY:CastForge - Internationale Fachmesse für Guss- und Schmiedeteile m
 it Bearbeitung
CLASS:PUBLIC
X-MICROSOFT-CDO-ALLDAYEVENT:TRUE
DTSTAMP:20260421T084048Z
END:VEVENT
END:VCALENDAR